BEGIN:VCALENDAR
VERSION:2.0
PRODID:-//Fuels Market News - ECPv5.12.2//NONSGML v1.0//EN
CALSCALE:GREGORIAN
METHOD:PUBLISH
X-WR-CALNAME:Fuels Market News
X-ORIGINAL-URL:https://fuelsmarketnews.com
X-WR-CALDESC:Events for Fuels Market News
BEGIN:VTIMEZONE
TZID:UTC
BEGIN:STANDARD
TZOFFSETFROM:+0000
TZOFFSETTO:+0000
TZNAME:UTC
DTSTART:20180101T000000
END:STANDARD
END:VTIMEZONE
BEGIN:VEVENT
DTSTART;VALUE=DATE:20180406
DTEND;VALUE=DATE:20180409
DTSTAMP:20260421T091822
CREATED:20171223T032551Z
LAST-MODIFIED:20171224T072734Z
UID:23445-1522972800-1523231999@fuelsmarketnews.com
SUMMARY:NPGA Southeastern Convention &  International Propane Expo
DESCRIPTION:The NPGA Southeastern Convention & International Propane Expo is the largest propane-related trade show in the world with over 250 exhibitors and more than 4\,000 participants! This annual event has grown beyond a regional trade show to become a global meeting place for the propane industry. The Expo offers everything you need to succeed in one convenient location. Discover market strategies and trade resources to expand your business\, educate your employees\, and build profitable relationships.
URL:https://fuelsmarketnews.com/event/npga-southeastern-convention-international-propane-expo/
LOCATION:Georgia World Congress Center\, 285 Andrew Young International Blvd NW\, Atlanta\, GA\, 30313
CATEGORIES:Trade Associations
GEO:33.7608167;-84.4011791
X-APPLE-STRUCTURED-LOCATION;VALUE=URI;X-ADDRESS=Georgia World Congress Center 285 Andrew Young International Blvd NW Atlanta GA 30313;X-APPLE-RADIUS=500;X-TITLE=285 Andrew Young International Blvd NW:geo:-84.4011791,33.7608167
END:VEVENT
END:VCALENDAR