BEGIN:VCALENDAR
VERSION:2.0
PRODID:-//Fuels Market News - ECPv5.12.2//NONSGML v1.0//EN
CALSCALE:GREGORIAN
METHOD:PUBLISH
X-WR-CALNAME:Fuels Market News
X-ORIGINAL-URL:https://fuelsmarketnews.com
X-WR-CALDESC:Events for Fuels Market News
BEGIN:VTIMEZONE
TZID:America/Chicago
BEGIN:DAYLIGHT
TZOFFSETFROM:-0600
TZOFFSETTO:-0500
TZNAME:CDT
DTSTART:20210314T080000
END:DAYLIGHT
BEGIN:STANDARD
TZOFFSETFROM:-0500
TZOFFSETTO:-0600
TZNAME:CST
DTSTART:20211107T070000
END:STANDARD
END:VTIMEZONE
BEGIN:VEVENT
DTSTART;VALUE=DATE:20210816
DTEND;VALUE=DATE:20210821
DTSTAMP:20260421T050244
CREATED:20210309T223241Z
LAST-MODIFIED:20210309T223241Z
UID:38633-1629072000-1629503999@fuelsmarketnews.com
SUMMARY:NACS Convenience Summit Asia
DESCRIPTION:NACS Convenience Summit Asia is the only place where you can see what future disruptions are taking place today. This year\, you’ll be transported into the epicenter of retail disruption and innovation—Asia—for an immersive look into the future of convenience retailing. Gather from the comfort of your home or place of work with senior-level convenience and fuel executives for the latest thinking and knowledge exploration on changing shopper behavior and evolving digital retail technology\, as well as interactive store tours of some of Asia’s most iconic brands. \nNo other convenience retail summit helps you uncover unique perspectives\, drive value for your organization and build strategic relationships in Asia. \nEvent Preview \n\nInspiring keynote speakers\, general session speakers and retailer panelists.\nMore case studies from retailers across Asia.\nInnovative convenience and fuel stores showcased during moderated ‘Best of Show’ virtual retail tours.\nKnowledge-exploration\, peer-to-peer sharing and tips from the winners of the NACS Asian Leader of the Year Award and Asian Convenience Retail Technology Award.\n\nWho Should Attend & Why \nOur program is tailored to global convenience and fuel retailers and suppliers with the following backgrounds: \n\nChief Executives & Senior Leaders – From global industry trends to leadership strategies\, find the latest insights on today’s business challenges and tomorrow’s opportunities.\nMarketing\, Sales & Category Management – Discover how to grow traffic\, turn customers into brand advocates and create an in-store “experience” that inspires repeat visits.\nOperations – Get an insider’s look at best-in-class store executions\, breakthrough technologies and new products that will delight your customers\, while saving you time and money.\n\nPast Participating Retailers \n\n7-Eleven\nPetronas\nCircle K\nSecoma Co.\, Ltd.\nPetroChina\nShahin Enterprises\n24Seven Retail Stores\nShell International Petroleum Company Limited\nAnd more​
URL:https://fuelsmarketnews.com/event/nacs-convenience-summit-asia/
CATEGORIES:Trade Associations
ATTACH;FMTTYPE=image/jpeg:https://fuelsmarketnews.com/wp-content/uploads/2021/03/2021-03-09_16-31-44.jpg
ORGANIZER;CN="Regina%20Sheehan":MAILTO:rsheehan@convenience.org
END:VEVENT
END:VCALENDAR