BEGIN:VCALENDAR
VERSION:2.0
PRODID:-//Fuels Market News - ECPv5.12.2//NONSGML v1.0//EN
CALSCALE:GREGORIAN
METHOD:PUBLISH
X-WR-CALNAME:Fuels Market News
X-ORIGINAL-URL:https://fuelsmarketnews.com
X-WR-CALDESC:Events for Fuels Market News
BEGIN:VTIMEZONE
TZID:UTC
BEGIN:STANDARD
TZOFFSETFROM:+0000
TZOFFSETTO:+0000
TZNAME:UTC
DTSTART:20180101T000000
END:STANDARD
END:VTIMEZONE
BEGIN:VEVENT
DTSTART;VALUE=DATE:20180611
DTEND;VALUE=DATE:20180614
DTSTAMP:20260418T130836
CREATED:20171226T221702Z
LAST-MODIFIED:20171226T222634Z
UID:23466-1528675200-1528934399@fuelsmarketnews.com
SUMMARY:International Fuel Ethanol Workshop & Expo
DESCRIPTION:the FEW provides the ethanol industry with cutting-edge content and unparalleled networking opportunities in a dynamic business-to-business environment. As the largest\, longest running ethanol conference in the world\, the FEW is renowned for its superb programming—powered by Ethanol Producer Magazine—that maintains a strong focus on commercial-scale ethanol production\, new technology\, and near-term research and development. The 2017 event drew more than 2\,000 people from over 48 countries and from nearly every ethanol plant in the United States and Canada.
URL:https://fuelsmarketnews.com/event/international-fuel-ethanol-workshop-expo/
LOCATION:CenturyLink Center\, 455 N 10th St\, Omaha\, NE\, Omaha\, NE\, 68102
CATEGORIES:News Organizations
ATTACH;FMTTYPE=image/png:https://fuelsmarketnews.com/wp-content/uploads/2017/12/FEW14-logo.png
GEO:41.2635479;-95.9280927
X-APPLE-STRUCTURED-LOCATION;VALUE=URI;X-ADDRESS=CenturyLink Center 455 N 10th St Omaha NE Omaha NE 68102;X-APPLE-RADIUS=500;X-TITLE=455 N 10th St\, Omaha\, NE:geo:-95.9280927,41.2635479
END:VEVENT
END:VCALENDAR