BEGIN:VCALENDAR
VERSION:2.0
PRODID:-//Fuels Market News - ECPv5.12.2//NONSGML v1.0//EN
CALSCALE:GREGORIAN
METHOD:PUBLISH
X-WR-CALNAME:Fuels Market News
X-ORIGINAL-URL:https://fuelsmarketnews.com
X-WR-CALDESC:Events for Fuels Market News
BEGIN:VTIMEZONE
TZID:UTC
BEGIN:STANDARD
TZOFFSETFROM:+0000
TZOFFSETTO:+0000
TZNAME:UTC
DTSTART:20180101T000000
END:STANDARD
END:VTIMEZONE
BEGIN:VEVENT
DTSTART;VALUE=DATE:20180611
DTEND;VALUE=DATE:20180614
DTSTAMP:20260421T032325
CREATED:20171223T230851Z
LAST-MODIFIED:20171224T072357Z
UID:23456-1528675200-1528934399@fuelsmarketnews.com
SUMMARY:ILTA International Operating Conference & Tradeshow
DESCRIPTION:ILTA offers unparalleled opportunities for terminal operators and vendors alike. Each year\, thousands of terminal industry professionals meet in Houston at ILTA’s annual international operating conference and trade show in order to network with their peers\, share best practices\, find solutions and learn about the latest in equipment and technology.
URL:https://fuelsmarketnews.com/event/ilta-international-operating-conference-tradeshow/
LOCATION:George R. Brown Convention Center\, 1001 Avenida De Las Americas\, Houston\, TX\, 77010\, United States
CATEGORIES:Trade Associations
ATTACH;FMTTYPE=image/gif:https://fuelsmarketnews.com/wp-content/uploads/2013/07/ILTA-Logo_new_3x150.gif
GEO:29.7521422;-95.3578364
X-APPLE-STRUCTURED-LOCATION;VALUE=URI;X-ADDRESS=George R. Brown Convention Center 1001 Avenida De Las Americas Houston TX 77010 United States;X-APPLE-RADIUS=500;X-TITLE=1001 Avenida De Las Americas:geo:-95.3578364,29.7521422
END:VEVENT
END:VCALENDAR