BEGIN:VCALENDAR
VERSION:2.0
PRODID:-//Fuels Market News - ECPv5.12.2//NONSGML v1.0//EN
CALSCALE:GREGORIAN
METHOD:PUBLISH
X-WR-CALNAME:Fuels Market News
X-ORIGINAL-URL:https://fuelsmarketnews.com
X-WR-CALDESC:Events for Fuels Market News
BEGIN:VTIMEZONE
TZID:UTC
BEGIN:STANDARD
TZOFFSETFROM:+0000
TZOFFSETTO:+0000
TZNAME:UTC
DTSTART:20180101T000000
END:STANDARD
END:VTIMEZONE
BEGIN:VEVENT
DTSTART;VALUE=DATE:20180116
DTEND;VALUE=DATE:20180119
DTSTAMP:20260421T074607
CREATED:20171220T042052Z
LAST-MODIFIED:20171224T073153Z
UID:23359-1516060800-1516319999@fuelsmarketnews.com
SUMMARY:Argus Americas LPG Summit
DESCRIPTION:The Argus Americas LPG Summit brings together the international LPG market\, representing more than 25 countries from around the world. This conference provides delegates with the intelligence needed to position their companies for success.
URL:https://fuelsmarketnews.com/event/argus-americas-lpg-summit/
LOCATION:Hilton Americas\, 1600 Lamar Street\, Houston\, TX\, 77010\, United States
CATEGORIES:News Organizations
ATTACH;FMTTYPE=image/png:https://fuelsmarketnews.com/wp-content/uploads/2016/05/Argus_Media_Logo.svg_.png
GEO:29.7515326;-95.3606083
X-APPLE-STRUCTURED-LOCATION;VALUE=URI;X-ADDRESS=Hilton Americas 1600 Lamar Street Houston TX 77010 United States;X-APPLE-RADIUS=500;X-TITLE=1600 Lamar Street:geo:-95.3606083,29.7515326
END:VEVENT
END:VCALENDAR