BEGIN:VCALENDAR
VERSION:2.0
PRODID:-//Fuels Market News - ECPv5.12.2//NONSGML v1.0//EN
CALSCALE:GREGORIAN
METHOD:PUBLISH
X-WR-CALNAME:Fuels Market News
X-ORIGINAL-URL:https://fuelsmarketnews.com
X-WR-CALDESC:Events for Fuels Market News
BEGIN:VTIMEZONE
TZID:UTC
BEGIN:STANDARD
TZOFFSETFROM:+0000
TZOFFSETTO:+0000
TZNAME:UTC
DTSTART:20180101T000000
END:STANDARD
END:VTIMEZONE
BEGIN:VEVENT
DTSTART;VALUE=DATE:20180716
DTEND;VALUE=DATE:20180719
DTSTAMP:20260423T042948
CREATED:20180319T030101Z
LAST-MODIFIED:20180319T030101Z
UID:24251-1531699200-1531958399@fuelsmarketnews.com
SUMMARY:2018 Bakken Conference & Expo
DESCRIPTION:From oil prices to rig counts\, the Bakken is in the midst of an unprecedented moment in its short history. Join North American Shale magazine at The Bakken Conference & Expo to learn why oil and gas production in the Williston Basin has entered a new era and how new investment strategies and innovative solutions are influencing the play’s near- and long-term future.
URL:https://fuelsmarketnews.com/event/2018-bakken-conference-expo/
LOCATION:Roughrider Center\, 2209 Wolves Den Parkway\, Watford City\, ND\, 58854\, United States
ATTACH;FMTTYPE=image/png:https://fuelsmarketnews.com/wp-content/uploads/2018/03/Bakken_logo.png
GEO:47.8001453;-103.2449027
X-APPLE-STRUCTURED-LOCATION;VALUE=URI;X-ADDRESS=Roughrider Center 2209 Wolves Den Parkway Watford City ND 58854 United States;X-APPLE-RADIUS=500;X-TITLE=2209 Wolves Den Parkway:geo:-103.2449027,47.8001453
END:VEVENT
END:VCALENDAR